BEGIN:VCALENDAR
VERSION:2.0
PRODID:-//Tukios.com/
BEGIN:VEVENT
UID:33a8df0a-d258-4041-8740-d89a5b1535c3@www.crippinfuneralhome.com
DTSTAMP:20260420T221022Z
DTSTART:20260421T160000Z
DTEND:20260421T170000Z
SUMMARY:Funeral Service
DESCRIPTION:Funeral services to honor Joan will be held at Crippin 
	Funeral Home in Montrose at 10:00 A.M, Tuesday, April 21 with Reverend 
	James Conley of the Delta Baptist 
Church officiating. 
Burial will be 
	in the Olathe Cemetery. In lieu of flowers, 
contributions can be made 
	to Willow Tree Care Center, 2050 S Main Street, Delta, 
CO, 81416
URL:https://www.crippinfuneralhome.com/obituaries/arla-kessler
LOCATION: 802 E Main St  Montrose CO 81401
GEO:38.4822976;-107.871929
END:VEVENT
END:VCALENDAR